BEGIN:VCALENDAR
PRODID:-//event//iCal4j 1.0//EN
CALSCALE:GREGORIAN
BEGIN:VEVENT
DTSTAMP:20260423T185053Z
DTSTART:20261119T160000Z
DTEND:20261119T170000Z
SUMMARY:siec111926
LOCATION:
END:VEVENT
END:VCALENDAR
