BEGIN:VCALENDAR
PRODID:-//event//iCal4j 1.0//EN
CALSCALE:GREGORIAN
BEGIN:VEVENT
DTSTAMP:20260423T173059Z
DTSTART:20261015T150000Z
DTEND:20261015T160000Z
SUMMARY:siec101526
LOCATION:
END:VEVENT
END:VCALENDAR
