BEGIN:VCALENDAR
PRODID:-//event//iCal4j 1.0//EN
CALSCALE:GREGORIAN
BEGIN:VEVENT
DTSTAMP:20260423T180125Z
DTSTART:20260820T150000Z
DTEND:20260820T160000Z
SUMMARY:siec082026
LOCATION:
END:VEVENT
END:VCALENDAR
