BEGIN:VCALENDAR
PRODID:-//event//iCal4j 1.0//EN
CALSCALE:GREGORIAN
BEGIN:VEVENT
DTSTAMP:20260423T173059Z
DTSTART:20260716T150000Z
DTEND:20260716T160000Z
SUMMARY:siec071626
LOCATION:
END:VEVENT
END:VCALENDAR
