BEGIN:VCALENDAR
PRODID:-//event//iCal4j 1.0//EN
CALSCALE:GREGORIAN
BEGIN:VEVENT
DTSTAMP:20260423T155808Z
DTSTART:20260521T150000Z
DTEND:20260521T160000Z
SUMMARY:siec052126
LOCATION:
END:VEVENT
END:VCALENDAR
