BEGIN:VCALENDAR
PRODID:-//event//iCal4j 1.0//EN
CALSCALE:GREGORIAN
BEGIN:VEVENT
DTSTAMP:20260423T144417Z
DTSTART:20260430T130000Z
DTEND:20260430T220000Z
SUMMARY:dsitraining043026
LOCATION:
END:VEVENT
END:VCALENDAR
