BEGIN:VCALENDAR
PRODID:-//event//iCal4j 1.0//EN
CALSCALE:GREGORIAN
BEGIN:VEVENT
DTSTAMP:20260423T143339Z
DTSTART:20260428T130000Z
DTEND:20260428T220000Z
SUMMARY:dsitraining042826
LOCATION:
END:VEVENT
END:VCALENDAR
