BEGIN:VCALENDAR
PRODID:-//event//iCal4j 1.0//EN
CALSCALE:GREGORIAN
BEGIN:VEVENT
DTSTAMP:20260423T144417Z
DTSTART:20260427T130000Z
DTEND:20260427T220000Z
SUMMARY:dsitraining042726
LOCATION:
END:VEVENT
END:VCALENDAR
