BEGIN:VCALENDAR
PRODID:-//event//iCal4j 1.0//EN
CALSCALE:GREGORIAN
BEGIN:VEVENT
DTSTAMP:20260425T032646Z
DTSTART:20251208T140000Z
DTEND:20251208T230000Z
SUMMARY:information-technology-systems-leader
LOCATION:
END:VEVENT
END:VCALENDAR
